BEGIN:VCALENDAR
VERSION:2.0
PRODID:-//Grand est 100 enr ! - ECPv6.15.20//NONSGML v1.0//EN
CALSCALE:GREGORIAN
METHOD:PUBLISH
X-ORIGINAL-URL:https://grandest100enr.org
X-WR-CALDESC:Évènements pour Grand est 100 enr !
REFRESH-INTERVAL;VALUE=DURATION:PT1H
X-Robots-Tag:noindex
X-PUBLISHED-TTL:PT1H
BEGIN:VTIMEZONE
TZID:Europe/Paris
BEGIN:DAYLIGHT
TZOFFSETFROM:+0100
TZOFFSETTO:+0200
TZNAME:CEST
DTSTART:20250330T010000
END:DAYLIGHT
BEGIN:STANDARD
TZOFFSETFROM:+0200
TZOFFSETTO:+0100
TZNAME:CET
DTSTART:20251026T010000
END:STANDARD
BEGIN:DAYLIGHT
TZOFFSETFROM:+0100
TZOFFSETTO:+0200
TZNAME:CEST
DTSTART:20260329T010000
END:DAYLIGHT
BEGIN:STANDARD
TZOFFSETFROM:+0200
TZOFFSETTO:+0100
TZNAME:CET
DTSTART:20261025T010000
END:STANDARD
BEGIN:DAYLIGHT
TZOFFSETFROM:+0100
TZOFFSETTO:+0200
TZNAME:CEST
DTSTART:20270328T010000
END:DAYLIGHT
BEGIN:STANDARD
TZOFFSETFROM:+0200
TZOFFSETTO:+0100
TZNAME:CET
DTSTART:20271031T010000
END:STANDARD
END:VTIMEZONE
BEGIN:VEVENT
DTSTART;TZID=Europe/Paris:20260608T120000
DTEND;TZID=Europe/Paris:20260608T130000
DTSTAMP:20260420T115428
CREATED:20251119T125728Z
LAST-MODIFIED:20251119T125728Z
UID:33596-1780920000-1780923600@grandest100enr.org
SUMMARY:Les VEhicules Légers Intermédaires (VELI)
DESCRIPTION:Bienvenue au Déj’EnR !\nVotre rendez-vous incontournable pour explorer les horizons des énergies renouvelables en Grand Est !\n\n\n\n\n\nUn évènement sous forme de webinaire organisé avec passion par les Réseaux GECLER et GÉnÉRATEURS\n\n\n\nLe concept\n\n\n\n\nChaque mois\, rejoignez autour d’une visio-table l’ALE 08\, Alter Alsace Energies et LER pour vous ouvrir l’appétit avec un délicieux webinaire sur un sujet lié aux énergies renouvelables portées par nos citoyens et nos collectivités du Grand Est\nRejoignez nous en visio via ce lien !
URL:https://grandest100enr.org/evenement/les-vehicules-legers-intermedaires-veli/
CATEGORIES:Dej'Enr
END:VEVENT
BEGIN:VEVENT
DTSTART;TZID=Europe/Paris:20260612T090000
DTEND;TZID=Europe/Paris:20260612T170000
DTSTAMP:20260420T115428
CREATED:20260116T090233Z
LAST-MODIFIED:20260116T094540Z
UID:33682-1781254800-1781283600@grandest100enr.org
SUMMARY:12 juin 2026 – Formation développer son projet photovoltaïque
DESCRIPTION:Objectifs de la formation : \n\nConnaître les différentes technologies photovoltaïques (toiture\, parking…) ;\nConnaître les différents modes de développement d’un projet ;\nMaîtriser l’ensemble des aspects et obligations de la maîtrise d’ouvrage ;\nMaîtriser les différentes étapes d’un projet photovoltaïque ;\nS’approprier les enjeux liés au raccordement aux réseaux électriques ;\nEnvisager l’adéquation entre technologie\, rentabilité et maintenance ;\nConnaître les différentes stratégies de valorisation de l’énergie photovoltaïque et les subventions mobilisables ;\n\nAtelier de mise en pratique : développer sa centrale solaire \nProgramme de la formation : \n\nLes différentes technologies photovoltaïques (en toiture\, au sol…)\nLa maîtrise d’ouvrage\nDérisquer son projet\nMaîtriser le plan d ‘affaire\nRetour d’expérience d’un élu\nLes différentes autorisations à obtenir\nLes différentes études à réaliser\nLe raccordement\nLes travaux\nL’exploitation de la centrale\nExercice de mise en pratique\n\nÀ qui s’adresse la formation ? \nLes élu.e.s \nChargé.e.s de mission des collectivités territoriales \nCollectifs citoyens d’énergie renouvelable \n  \nInfos pratiques : \nLieu de la formation : Strasbourg\, en présentiel \nL’adresse du lieu vous sera envoyée par mail quelques jours avant la formation. \nSession sur une journée : 09h à 17h\, le repas de midi vous est offert \nTarifs de la formation : \nLa formation est gratuite* pour les élu.e.s\, chargé.e.s de mission des collectivités territoriales et collectifs citoyens \n*Prise en charge par notre réseau Les Générateurs \nInscription nécessaire.  \nDes questions ? Contactez Apolline Hagenbach – 03 88 23 33 90 apolline.hagenbach@alteralsace.org \nFormateurs : \nJulien AFONSO \nApolline HAGENBACH
URL:https://grandest100enr.org/evenement/12-juin-2026-formation-developper-son-projet-photovoltaique/
LOCATION:strasbourg\, 67000\, France
CATEGORIES:formation
END:VEVENT
END:VCALENDAR