BEGIN:VCALENDAR
VERSION:2.0
PRODID:-//Grand est 100 enr ! - ECPv6.15.20//NONSGML v1.0//EN
CALSCALE:GREGORIAN
METHOD:PUBLISH
X-ORIGINAL-URL:https://grandest100enr.org
X-WR-CALDESC:Évènements pour Grand est 100 enr !
REFRESH-INTERVAL;VALUE=DURATION:PT1H
X-Robots-Tag:noindex
X-PUBLISHED-TTL:PT1H
BEGIN:VTIMEZONE
TZID:Europe/Paris
BEGIN:DAYLIGHT
TZOFFSETFROM:+0100
TZOFFSETTO:+0200
TZNAME:CEST
DTSTART:20220327T010000
END:DAYLIGHT
BEGIN:STANDARD
TZOFFSETFROM:+0200
TZOFFSETTO:+0100
TZNAME:CET
DTSTART:20221030T010000
END:STANDARD
BEGIN:DAYLIGHT
TZOFFSETFROM:+0100
TZOFFSETTO:+0200
TZNAME:CEST
DTSTART:20230326T010000
END:DAYLIGHT
BEGIN:STANDARD
TZOFFSETFROM:+0200
TZOFFSETTO:+0100
TZNAME:CET
DTSTART:20231029T010000
END:STANDARD
BEGIN:DAYLIGHT
TZOFFSETFROM:+0100
TZOFFSETTO:+0200
TZNAME:CEST
DTSTART:20240331T010000
END:DAYLIGHT
BEGIN:STANDARD
TZOFFSETFROM:+0200
TZOFFSETTO:+0100
TZNAME:CET
DTSTART:20241027T010000
END:STANDARD
END:VTIMEZONE
BEGIN:VEVENT
DTSTART;TZID=Europe/Paris:20230703T090000
DTEND;TZID=Europe/Paris:20230703T170000
DTSTAMP:20260423T230241
CREATED:20230619T112204Z
LAST-MODIFIED:20230619T112204Z
UID:32174-1688374800-1688403600@grandest100enr.org
SUMMARY:Formation : codéveloppement de projets EnR
DESCRIPTION:Comment les collectivités et les habitants peuvent garder la main sur le développement des énergies renouvelables sur leur territoire ? Comment les professionnels du développement peuvent intégrer les acteurs locaux dans leurs projets ? \nRetrouvez les réponses à toutes ces questions lors de cette formation ! Retrouvez toutes le détail de cette formation ainsi que le lien d’inscription sur ce lien.
URL:https://grandest100enr.org/evenement/formation-codeveloppement-de-projets-enr/
END:VEVENT
BEGIN:VEVENT
DTSTART;VALUE=DATE:20230707
DTEND;VALUE=DATE:20230708
DTSTAMP:20260423T230241
CREATED:20230619T112629Z
LAST-MODIFIED:20230619T112629Z
UID:32177-1688688000-1688774399@grandest100enr.org
SUMMARY:Voyage d'étude PV et éolien en Suisse
DESCRIPTION:Dans le cadre de ses missions Gecler et Générateurs\, Alter Alsace Energies organise le 7 juillet un voyage d’étude en Suisse. Celui-ci sera l’occasion de découvrir un projet éolien détenu par des citoyens ainsi qu’une la commune qui a mené son propre projet photovoltaïque.\nPré-inscrivez-vous dès maintenant en écrivant à info@alteralsace.org.
URL:https://grandest100enr.org/evenement/voyage-detude-pv-et-eolien-en-suisse/
END:VEVENT
BEGIN:VEVENT
DTSTART;TZID=Europe/Paris:20230710T120000
DTEND;TZID=Europe/Paris:20230710T123000
DTSTAMP:20260423T230241
CREATED:20221223T152154Z
LAST-MODIFIED:20221223T152154Z
UID:31916-1688990400-1688992200@grandest100enr.org
SUMMARY:Dej'ENR de juillet
DESCRIPTION:Les réseaux GECLER et Générateurs lancent les Dej’EnR : Chaque mois\, retrouvons-nous en webinaire pour aborder un sujet propre aux énergies renouvelables en Grand Est. \nAu menu en juillet : bois-énergie : en finir avec les idées reçues. \nRejoignez le dej’ENR sur zoom via ce lien : https://us02web.zoom.us/j/87250821849
URL:https://grandest100enr.org/evenement/dejenr-de-juillet/
END:VEVENT
END:VCALENDAR