BEGIN:VCALENDAR
VERSION:2.0
PRODID:-//Grand est 100 enr ! - ECPv6.15.20//NONSGML v1.0//EN
CALSCALE:GREGORIAN
METHOD:PUBLISH
X-WR-CALNAME:Grand est 100 enr !
X-ORIGINAL-URL:https://grandest100enr.org
X-WR-CALDESC:Évènements pour Grand est 100 enr !
REFRESH-INTERVAL;VALUE=DURATION:PT1H
X-Robots-Tag:noindex
X-PUBLISHED-TTL:PT1H
BEGIN:VTIMEZONE
TZID:Europe/Paris
BEGIN:DAYLIGHT
TZOFFSETFROM:+0100
TZOFFSETTO:+0200
TZNAME:CEST
DTSTART:20230326T010000
END:DAYLIGHT
BEGIN:STANDARD
TZOFFSETFROM:+0200
TZOFFSETTO:+0100
TZNAME:CET
DTSTART:20231029T010000
END:STANDARD
BEGIN:DAYLIGHT
TZOFFSETFROM:+0100
TZOFFSETTO:+0200
TZNAME:CEST
DTSTART:20240331T010000
END:DAYLIGHT
BEGIN:STANDARD
TZOFFSETFROM:+0200
TZOFFSETTO:+0100
TZNAME:CET
DTSTART:20241027T010000
END:STANDARD
BEGIN:DAYLIGHT
TZOFFSETFROM:+0100
TZOFFSETTO:+0200
TZNAME:CEST
DTSTART:20250330T010000
END:DAYLIGHT
BEGIN:STANDARD
TZOFFSETFROM:+0200
TZOFFSETTO:+0100
TZNAME:CET
DTSTART:20251026T010000
END:STANDARD
END:VTIMEZONE
BEGIN:VEVENT
DTSTART;VALUE=DATE:20240419
DTEND;VALUE=DATE:20240420
DTSTAMP:20260423T003418
CREATED:20240419T070005Z
LAST-MODIFIED:20240307T100017Z
UID:32725-1713484800-1713571199@grandest100enr.org
SUMMARY:Formation développer son projet photovoltaïque
DESCRIPTION:Nous vous proposons une formation opérationnelle sur le développement de projet photovoltaïque. \nQue vous souhaitiez développer un projet en toiture\, au sol ou en ombrière\, à travers cette formation nous reviendrons sur l’ensemble du processus de développement et aborderons les bonnes pratiques et écueils à éviter pour un projet réussi. \nRetrouvez le programme et inscrivez vous ici : https://www.grandest100enr.org/formation-developper-son-projet-photovoltaique/
URL:https://grandest100enr.org/evenement/formation-developper-son-projet-photovoltaique/
ATTACH;FMTTYPE=image/jpeg:https://grandest100enr.org/wp-content/uploads/2024/03/IMG_20240223_151504-scaled.jpg
END:VEVENT
END:VCALENDAR