BEGIN:VCALENDAR
VERSION:2.0
PRODID:-//Grand est 100 enr ! - ECPv6.15.20//NONSGML v1.0//EN
CALSCALE:GREGORIAN
METHOD:PUBLISH
X-WR-CALNAME:Grand est 100 enr !
X-ORIGINAL-URL:https://grandest100enr.org
X-WR-CALDESC:Évènements pour Grand est 100 enr !
REFRESH-INTERVAL;VALUE=DURATION:PT1H
X-Robots-Tag:noindex
X-PUBLISHED-TTL:PT1H
BEGIN:VTIMEZONE
TZID:Europe/Paris
BEGIN:DAYLIGHT
TZOFFSETFROM:+0100
TZOFFSETTO:+0200
TZNAME:CEST
DTSTART:20240331T010000
END:DAYLIGHT
BEGIN:STANDARD
TZOFFSETFROM:+0200
TZOFFSETTO:+0100
TZNAME:CET
DTSTART:20241027T010000
END:STANDARD
BEGIN:DAYLIGHT
TZOFFSETFROM:+0100
TZOFFSETTO:+0200
TZNAME:CEST
DTSTART:20250330T010000
END:DAYLIGHT
BEGIN:STANDARD
TZOFFSETFROM:+0200
TZOFFSETTO:+0100
TZNAME:CET
DTSTART:20251026T010000
END:STANDARD
BEGIN:DAYLIGHT
TZOFFSETFROM:+0100
TZOFFSETTO:+0200
TZNAME:CEST
DTSTART:20260329T010000
END:DAYLIGHT
BEGIN:STANDARD
TZOFFSETFROM:+0200
TZOFFSETTO:+0100
TZNAME:CET
DTSTART:20261025T010000
END:STANDARD
END:VTIMEZONE
BEGIN:VEVENT
DTSTART;TZID=Europe/Paris:20251031T090000
DTEND;TZID=Europe/Paris:20251031T170000
DTSTAMP:20260421T010317
CREATED:20251016T101052Z
LAST-MODIFIED:20251016T102656Z
UID:33496-1761901200-1761930000@grandest100enr.org
SUMMARY:Visite Réseaux de Chaleur et Centrales Photovoltaïques citoyens en Allemagne
DESCRIPTION:Les réseaux GECLER (Energie citoyenne en Grand Est) et les Générateurs en Grand Est vous proposent une journée de visite en Allemagne. Venez découvrir deux réseaux de chaleur citoyens dans la vallée d’Elzach et un parc photovoltaïque. \nVous pourrez échanger avec les citoyens qui se sont rassemblés pour financer ensemble de nombreuses installations d’énergies renouvelables sur leur territoire pour participer activement à la transition écologique et stimuler l’économie locale grâce aux retombées directes. \nUn covoiturage en bus est proposé au départ de la gare de Sélestat : pensez à cliquer sur l’option lors de l’inscription si vous souhaitez monter à bord du bus. Le repas de midi est offert par les réseaux Générateurs et GECLER. \nPour vous inscrire à la journée\, CLIQUEZ ICI \nCette journée est gratuite pour les chargé.e.s de mission\, agents des collectivités\, les élu.e.s et les collectifs citoyens grâce à des financements de l’Ademe et de la région Grand Est.
URL:https://grandest100enr.org/evenement/visite-reseaux-de-chaleur-et-centrales-photovoltaiques-citoyens-en-allemagne/
LOCATION:Elzach
CATEGORIES:formation
ATTACH;FMTTYPE=image/jpeg:https://grandest100enr.org/wp-content/uploads/2025/10/AtelierGEGE-10-FORMAT-BANNIERE-LINKEDIN-2-2.jpeg
END:VEVENT
END:VCALENDAR