BEGIN:VCALENDAR
VERSION:2.0
PRODID:-//Grand est 100 enr ! - ECPv6.15.20//NONSGML v1.0//EN
CALSCALE:GREGORIAN
METHOD:PUBLISH
X-WR-CALNAME:Grand est 100 enr !
X-ORIGINAL-URL:https://grandest100enr.org
X-WR-CALDESC:Évènements pour Grand est 100 enr !
REFRESH-INTERVAL;VALUE=DURATION:PT1H
X-Robots-Tag:noindex
X-PUBLISHED-TTL:PT1H
BEGIN:VTIMEZONE
TZID:Europe/Paris
BEGIN:DAYLIGHT
TZOFFSETFROM:+0100
TZOFFSETTO:+0200
TZNAME:CEST
DTSTART:20220327T010000
END:DAYLIGHT
BEGIN:STANDARD
TZOFFSETFROM:+0200
TZOFFSETTO:+0100
TZNAME:CET
DTSTART:20221030T010000
END:STANDARD
BEGIN:DAYLIGHT
TZOFFSETFROM:+0100
TZOFFSETTO:+0200
TZNAME:CEST
DTSTART:20230326T010000
END:DAYLIGHT
BEGIN:STANDARD
TZOFFSETFROM:+0200
TZOFFSETTO:+0100
TZNAME:CET
DTSTART:20231029T010000
END:STANDARD
BEGIN:DAYLIGHT
TZOFFSETFROM:+0100
TZOFFSETTO:+0200
TZNAME:CEST
DTSTART:20240331T010000
END:DAYLIGHT
BEGIN:STANDARD
TZOFFSETFROM:+0200
TZOFFSETTO:+0100
TZNAME:CET
DTSTART:20241027T010000
END:STANDARD
END:VTIMEZONE
BEGIN:VEVENT
DTSTART;TZID=Europe/Paris:20230627T090000
DTEND;TZID=Europe/Paris:20230627T220000
DTSTAMP:20260423T200551
CREATED:20230619T111632Z
LAST-MODIFIED:20230619T111632Z
UID:32171-1687856400-1687903200@grandest100enr.org
SUMMARY:GT ACC #3
DESCRIPTION:Dans le cadre de la mission du réseau Les Générateurs en Grand Est\, nous animons un groupe de travail sur l’autoconsommation collective (ACC) à destination des collectivités. L’objectif : monter en compétence sur l’ACC\, ses principes\, sa gestion\, etc. Vous pouvez retrouver le replay des sessions précédentes sur notre chaine youtube. \nPour y participer\, veuillez vous inscrire sur ce formulaire. Nous vous ferons parvenir le lien de connexion à la visioconférence ultérieurement.
URL:https://grandest100enr.org/evenement/gt-acc-3/
END:VEVENT
END:VCALENDAR